Workbook
Name Hidden_13: Hidden_1!$A$1:$A$11
Name Hidden_211: Hidden_2!$A$1:$A$2
Name Hidden_312: Hidden_3!$A$1:$A$2

Sheet Reporte de Formatos
A1: 56156
A2: TÍTULO | D2: NOMBRE CORTO | G2: DESCRIPCIÓN
A3: Remuneración bruta y neta | D3: LTAIPSLP84XI | G3: La información relativa a la remuneración mensual bruta y neta de conformidad con el tabulador de sueldos y salarios aplicable a cada sujeto obligado, así como todos los conceptos que sean adicionales y distintos a las remuneraciones, especificando la periodicidad con que se otorga cada uno de éstos (quincenal, mensual, semestral, anual, por única ocasión, etcétera)
A4: 1 | B4: 4 | C4: 4 | D4: 9 | E4: 1 | F4: 2 | G4: 2 | H4: 2 | I4: 1 | J4: 1 | K4: 1 | L4: 9 | M4: 9 | N4: 6 | O4: 1 | P4: 6 | Q4: 1 | R4: 10 | S4: 10 | T4: 10 | U4: 10 | V4: 10 | W4: 10 | X4: 10 | Y4: 10 | Z4: 10 | AA4: 10 | AB4: 10 | AC4: 10 | AD4: 10 | AE4: 2 | AF4: 4 | AG4: 13 | AH4: 14
A5: 549532 | B5: 549544 | C5: 549524 | D5: 549545 | E5: 549546 | F5: 549527 | G5: 549533 | H5: 549534 | I5: 549535 | J5: 549528 | K5: 549525 | L5: 549536 | M5: 571587 | N5: 549547 | O5: 549548 | P5: 549537 | Q5: 549526 | R5: 549551 | S5: 549538 | T5: 549552 | U5: 549522 | V5: 549542 | W5: 549529 | X5: 549539 | Y5: 549530 | Z5: 549531 | AA5: 549549 | AB5: 549553 | AC5: 549550 | AD5: 549554 | AE5: 549540 | AF5: 549541 | AG5: 549543 | AH5: 549523
A6: Tabla Campos
A7: Ejercicio | B7: Fecha de inicio del periodo que se informa | C7: Fecha de término del periodo que se informa | D7: Tipo de integrante del sujeto obligado (catálogo) | E7: Clave o nivel del puesto | F7: Denominación o descripción del puesto (Redactados con perspectiva de género) | G7: Denominación del cargo | H7: Área de adscripción | I7: Nombre (s) | J7: Primer apellido | K7: Segundo apellido | L7: ESTE CRITERIO APLICA PARA EJERCICIOS ANTERIORES AL 01/07/2023 -> Sexo (catálogo) | M7: ESTE CRITERIO APLICA A PARTIR DEL 01/07/2023 -> Sexo (catálogo ) | N7: Monto mensual bruto de la remuneración, en tabulador | O7: Tipo de moneda de la remuneración bruta | P7: Monto mensual neto de la remuneración, en tabulador | Q7: Tipo de moneda de la remuneración neta | R7: Percepciones adicionales en dinero, Monto bruto y neto, tipo de moneda y su periodicidad Tabla_549551 | S7: Percepciones adicionales en especie y su periodicidad Tabla_549538 | T7: Ingresos, monto bruto y neto, tipo de moneda y su periodicidad Tabla_549552 | U7: Sistemas de compensación, monto bruto y neto, tipo de moneda y su periodicidad Tabla_549522 | V7: Gratificaciones, monto bruto y neto, tipo de moneda y su periodicidad Tabla_549542 | W7: Primas, monto bruto y neto, tipo de moneda y su periodicidad Tabla_549529 | X7: Comisiones, monto bruto y neto, tipo de moneda y su periodicidad Tabla_549539 | Y7: Dietas, monto bruto y neto, tipo de moneda y su periodicidad Tabla_549530 | Z7: Bonos, monto bruto y neto, tipo de moneda y su periodicidad Tabla_549531 | AA7: Estímulos, monto bruto y neto, tipo de moneda y su periodicidad Tabla_549549 | AB7: Apoyos económicos, monto bruto y neto, tipo de moneda y su periodicidad Tabla_549553 | AC7: Prestaciones económicas, monto bruto y neto, tipo de moneda y su periodicidad Tabla_549550 | AD7: Prestaciones en especie y su periodicidad Tabla_549554 | AE7: Área(s) responsable(s) que genera(n), posee(n), publica(n) y actualizan la información | AF7: Fecha de validación | AG7: Fecha de Actualización | AH7: Nota
A8: 2024 | B8: 45383 | C8: 45412 | D8: Servidor(a) público(a) | E8: 1 | F8: COORDINADORA DEL SMDIF | G8: COORDINADORA GENERAL | H8: COORDINACION GENERAL | I8: BEATRIZ ADRIANA | J8: GAMEZ | K8: AGUIAR | L8: Femenino | M8: Mujer | N8: =Tabla_549552!C4+Tabla_549542!C4+Tabla_549529!C4 -> 14473.2 | O8: PESOS MEXICANOS | P8: =Tabla_549552!D4+Tabla_549542!D4+Tabla_549529!D4 -> 13000 | Q8: PESOS MEXICANOS | R8: 1 | S8: 1 | T8: 1 | U8: 1 | V8: 1 | W8: 1 | X8: 1 | Y8: 1 | Z8: 1 | AA8: 1 | AB8: 1 | AC8: 1 | AD8: 1 | AE8: ADMINISTRACIÓN | AF8: 45422 | AG8: 45422
A9: 2024 | B9: 45383 | C9: 45412 | D9: Servidor(a) público(a) | E9: 1 | F9: ADMINISTRADORA SMDIF | G9: COORDINADOR ADMINISTRATIVO | H9: COORDINACION ADMINISTRATIVA | I9: GABRIEL AARÓN | J9: TORRES | K9: LEIJA | L9: Masculino | M9: Hombre | N9: =Tabla_549552!C5+Tabla_549542!C5+Tabla_549529!C5 -> 12053.4 | O9: PESOS MEXICANOS | P9: =Tabla_549552!D5+Tabla_549542!D5+Tabla_549529!D5 -> 11000 | Q9: PESOS MEXICANOS | R9: 2 | S9: 2 | T9: 2 | U9: 2 | V9: 2 | W9: 2 | X9: 2 | Y9: 2 | Z9: 2 | AA9: 2 | AB9: 2 | AC9: 2 | AD9: 2 | AE9: ADMINISTRACIÓN | AF9: 45422 | AG9: 45422
A10: 2024 | B10: 45383 | C10: 45412 | D10: Servidor(a) público(a) | E10: 2 | F10: COORDINADOR DE DESARROLLO COMUNITARIO Y ASISTENCIA ALIMENTARIA | G10: COORDINADORA DE DESARROLLO COMUNITARIO Y ASISTENCIA ALIMENTARIA | H10: ASISTENCIA ALIMENTARIA | I10: MARIA FRANCISCA | J10: MARES | K10: CONTRERAS | L10: Femenino | M10: Mujer | N10: 4312.7 | O10: PESOS MEXICANOS | P10: 4000 | Q10: PESOS MEXICANOS | R10: 3 | S10: 3 | T10: 3 | U10: 3 | V10: 3 | W10: 3 | X10: 3 | Y10: 3 | Z10: 3 | AA10: 3 | AB10: 3 | AC10: 3 | AD10: 3 | AE10: ADMINISTRACIÓN | AF10: 45422 | AG10: 45422
A11: 2024 | B11: 45383 | C11: 45412 | D11: Servidor(a) público(a) | E11: 2 | F11: COORDINADOR DE SALUD | G11: COORDINADORA DE SALUD | H11: COORDINACION DE SALUD | I11: RITA DOLORES | J11: LIMON | K11: REYNA | L11: Femenino | M11: Mujer | N11: =Tabla_549552!C7+Tabla_549542!C7+Tabla_549529!C7 -> 7400 | O11: PESOS MEXICANOS | P11: =Tabla_549552!D7+Tabla_549542!D7+Tabla_549529!D7 -> 7400 | Q11: PESOS MEXICANOS | R11: 4 | S11: 4 | T11: 4 | U11: 4 | V11: 4 | W11: 4 | X11: 4 | Y11: 4 | Z11: 4 | AA11: 4 | AB11: 4 | AC11: 4 | AD11: 4 | AE11: ADMINISTRACIÓN | AF11: 45422 | AG11: 45422
A12: 2024 | B12: 45383 | C12: 45412 | D12: Servidor(a) público(a) | E12: 2 | F12: COORDINADOR DE BIENESTAR FAMILIAR | G12: COORDINADORA DE BIENESTAR FAMILIAR | H12: COORDINACION DE BIENESTAR FAMILIAR | I12: VIRIDIANA | J12: VAZQUEZ | K12: MENDOZA | L12: Femenino | M12: Mujer | N12: =Tabla_549552!C8+Tabla_549542!C8+Tabla_549529!C8 -> 9747.6 | O12: PESOS MEXICANOS | P12: =Tabla_549552!D8+Tabla_549542!D8+Tabla_549529!D8 -> 9000 | Q12: PESOS MEXICANOS | R12: 5 | S12: 5 | T12: 5 | U12: 5 | V12: 5 | W12: 5 | X12: 5 | Y12: 5 | Z12: 5 | AA12: 5 | AB12: 5 | AC12: 5 | AD12: 5 | AE12: ADMINISTRACIÓN | AF12: 45422 | AG12: 45422
A13: 2024 | B13: 45383 | C13: 45412 | D13: Servidor(a) público(a) | E13: 2 | F13: COORDINACION TECNICO DE INCLUSION PARA PERSONAS CON DISCAPACIDAD | G13: COORDINADOR TECNICO DE INCLUSION SOCIAL PARA PERSONAS CON DISCAPACIDAD | H13: COORDINACION TECNICA DE INCLUSION SOCIAL DE PERSONAS CON DISCAPACIDAD | I13: JUAN CARLOS | J13: NOYOLA | K13: VIERA | L13: Masculino | M13: Hombre | N13: =Tabla_549552!C9+Tabla_549542!C9+Tabla_549529!C9 -> 6970 | O13: PESOS MEXICANOS | P13: =Tabla_549552!D9+Tabla_549542!D9+Tabla_549529!D9 -> 6970 | Q13: PESOS MEXICANOS | R13: 6 | S13: 6 | T13: 6 | U13: 6 | V13: 6 | W13: 6 | X13: 6 | Y13: 6 | Z13: 6 | AA13: 6 | AB13: 6 | AC13: 6 | AD13: 6 | AE13: ADMINISTRACIÓN | AF13: 45422 | AG13: 45422
A14: 2024 | B14: 45383 | C14: 45412 | D14: Servidor(a) público(a) | E14: 2 | F14: AUXILIAR DE BIENESTAR FAMILIAR | G14: AUXILIAR DE BIENESTAR FAMILIAR | H14: BIENESTAR FAMILIAR | I14: LUIS FERNANDO | J14: ALFARO | K14: MUÑIZ | L14: Masculino | M14: Hombre | N14: =Tabla_549552!C10+Tabla_549542!C10+Tabla_549529!C10 -> 8176.8 | O14: PESOS MEXICANOS | P14: =Tabla_549552!D10+Tabla_549542!D10+Tabla_549529!D10 -> 7600 | Q14: PESOS MEXICANOS | R14: 7 | S14: 7 | T14: 7 | U14: 7 | V14: 7 | W14: 7 | X14: 7 | Y14: 7 | Z14: 7 | AA14: 7 | AB14: 7 | AC14: 7 | AD14: 7 | AE14: ADMINISTRACIÓN | AF14: 45422 | AG14: 45422
A15: 2024 | B15: 45383 | C15: 45412 | D15: Servidor(a) público(a) | E15: 2 | F15: TRABAJADORA SOCIAL | G15: TRABAJADORA SOCIAL | H15: UNIDAD BASICA DE REHABILITACION | I15: NORMA ARACELI | J15: TOVAR | K15: BRIONES | L15: Femenino | M15: Mujer | N15: =Tabla_549552!C11+Tabla_549542!C11+Tabla_549529!C11 -> 8176.8 | O15: PESOS MEXICANOS | P15: =Tabla_549552!D11+Tabla_549542!D11+Tabla_549529!D11 -> 7600 | Q15: PESOS MEXICANOS | R15: 8 | S15: 8 | T15: 8 | U15: 8 | V15: 8 | W15: 8 | X15: 8 | Y15: 8 | Z15: 8 | AA15: 8 | AB15: 8 | AC15: 8 | AD15: 8 | AE15: ADMINISTRACIÓN | AF15: 45422 | AG15: 45422
A16: 2024 | B16: 45383 | C16: 45412 | D16: Servidor(a) público(a) | E16: 2 | F16: TERAPEUTA FISICO | G16: TERAPEUTA FISICO | H16: UNIDAD BASICA DE REHABILITACION | I16: JACQUELINE | J16: TORRES | K16: CEPEDA | L16: Femenino | M16: Mujer | N16: =Tabla_549552!C12+Tabla_549542!C12+Tabla_549529!C12 -> 9298.8 | O16: PESOS MEXICANOS | P16: =Tabla_549552!D12+Tabla_549542!D12+Tabla_549529!D12 -> 8600 | Q16: PESOS MEXICANOS | R16: 9 | S16: 9 | T16: 9 | U16: 9 | V16: 9 | W16: 9 | X16: 9 | Y16: 9 | Z16: 9 | AA16: 9 | AB16: 9 | AC16: 9 | AD16: 9 | AE16: ADMINISTRACIÓN | AF16: 45422 | AG16: 45422
A17: 2024 | B17: 45383 | C17: 45412 | D17: Servidor(a) público(a) | E17: 4 | F17: AUXILIAR GENERAL | G17: AUXILIAR GENERAL | H17: AUXILIAR GENERAL | I17: VALENTIN | J17: ALFARO | K17: CRUZ | L17: Masculino | M17: Hombre | N17: =Tabla_549552!C13+Tabla_549542!C13+Tabla_549529!C13 -> 5400 | O17: PESOS MEXICANOS | P17: =Tabla_549552!D13+Tabla_549542!D13+Tabla_549529!D13 -> 5400 | Q17: PESOS MEXICANOS | R17: 10 | S17: 10 | T17: 10 | U17: 10 | V17: 10 | W17: 10 | X17: 10 | Y17: 10 | Z17: 10 | AA17: 10 | AB17: 10 | AC17: 10 | AD17: 10 | AE17: ADMINISTRACIÓN | AF17: 45422 | AG17: 45422
A18: 2024 | B18: 45383 | C18: 45412 | D18: Servidor(a) público(a) | E18: 4 | F18: COORDINACION DEL INSTITUTO DE LA MUJER | G18: COORDINADORA DEL INSTITUTO DE LA MUJER | H18: COORDINACION GENERAL | I18: FRANCISCA | J18: CRUZ | K18: BALDERAS | L18: Femenino | M18: Mujer | N18: 3169 | O18: PESOS MEXICANOS | P18: 3105 | Q18: PESOS MEXICANOS | R18: 11 | S18: 11 | T18: 11 | U18: 11 | V18: 11 | W18: 11 | X18: 11 | Y18: 11 | Z18: 11 | AA18: 11 | AB18: 11 | AC18: 11 | AD18: 11 | AE18: ADMINISTRACIÓN | AF18: 45422 | AG18: 45422
A19: 2024 | B19: 45383 | C19: 45412 | D19: Servidor(a) público(a) | E19: 4 | F19: INTENDENTE | G19: INTENDENCIA | H19: UNIDAD BASICA DE REHABILITACION | I19: VIRGINIA | J19: GALAVIZ | K19: REYNA | L19: Femenino | M19: Mujer | N19: =Tabla_549552!C15+Tabla_549542!C15+Tabla_549529!C15 -> 6472.18 | O19: PESOS MEXICANOS | P19: =Tabla_549552!D15+Tabla_549542!D15+Tabla_549529!D15 -> 6472.18 | Q19: PESOS MEXICANOS | R19: 12 | S19: 12 | T19: 12 | U19: 12 | V19: 12 | W19: 12 | X19: 12 | Y19: 12 | Z19: 12 | AA19: 12 | AB19: 12 | AC19: 12 | AD19: 12 | AE19: ADMINISTRACIÓN | AF19: 45422 | AG19: 45422
A20: 2024 | B20: 45383 | C20: 45412 | D20: Servidor(a) público(a) | E20: 4 | F20: INTENDENTE | G20: INTENDENCIA | H20: SMDIF | I20: MA. GUADALUPE | J20: GALAVIZ | K20: REYNA | L20: Femenino | M20: Mujer | N20: =Tabla_549552!C16+Tabla_549542!C16+Tabla_549529!C16 -> 6472.18 | O20: PESOS MEXICANOS | P20: =Tabla_549552!D16+Tabla_549542!D16+Tabla_549529!D16 -> 6472.18 | Q20: PESOS MEXICANOS | R20: 13 | S20: 13 | T20: 13 | U20: 13 | V20: 13 | W20: 13 | X20: 13 | Y20: 13 | Z20: 13 | AA20: 13 | AB20: 13 | AC20: 13 | AD20: 13 | AE20: ADMINISTRACIÓN | AF20: 45422 | AG20: 45422
A21: 2024 | B21: 45383 | C21: 45412 | D21: Servidor(a) público(a) | E21: 4 | F21: CHOFER | G21: CHOFER | H21: SMDIF | I21: J. NESTOR | J21: MONSIVAIS | K21: CASTILLO | L21: Masculino | M21: Hombre | N21: =Tabla_549552!C17+Tabla_549542!C17+Tabla_549529!C17 -> 8625.6 | O21: PESOS MEXICANOS | P21: =Tabla_549552!D17+Tabla_549542!D17+Tabla_549529!D17 -> 8000 | Q21: PESOS MEXICANOS | R21: 14 | S21: 14 | T21: 14 | U21: 14 | V21: 14 | W21: 14 | X21: 14 | Y21: 14 | Z21: 14 | AA21: 14 | AB21: 14 | AC21: 14 | AD21: 14 | AE21: ADMINISTRACIÓN | AF21: 45422 | AG21: 45422
A22: 2024 | B22: 45383 | C22: 45412 | D22: Servidor(a) público(a) | E22: 4 | F22: AUXILIAR GENERAL B | G22: AUXILIAR GENERAL B | H22: AUXILIAR | I22: ALDO JANITZIO | J22: RODRIGUEZ | K22: CASTILLO | L22: Masculino | M22: Hombre | N22: =Tabla_549552!C18+Tabla_549542!C18+Tabla_549529!C18 -> 3312 | O22: PESOS MEXICANOS | P22: =Tabla_549552!D18+Tabla_549542!D18+Tabla_549529!D18 -> 3312 | Q22: PESOS MEXICANOS | R22: 15 | S22: 15 | T22: 15 | U22: 15 | V22: 15 | W22: 15 | X22: 15 | Y22: 15 | Z22: 15 | AA22: 15 | AB22: 15 | AC22: 15 | AD22: 15 | AE22: ADMINISTRACIÓN | AF22: 45422 | AG22: 45422
A23: 2024 | B23: 45383 | C23: 45412 | D23: Servidor(a) público(a) | E23: 1 | F23: CORDINADOR UNIDAD BASICA DE REHABILITACION | G23: CORDINADOR UNIDAD BASICA DE REHABILITACION | H23: UNIDAD BASICA DE REHABILITACION | I23: JOSE JULIAN | J23: ALFARO | K23: RAMOS | L23: Masculino | M23: Hombre | N23: =Tabla_549552!C19+Tabla_549542!C19+Tabla_549529!C19 -> 9298.8 | O23: PESOS MEXICANOS | P23: =Tabla_549552!D19+Tabla_549542!D19+Tabla_549529!D19 -> 8600 | Q23: PESOS MEXICANOS | R23: 16 | S23: 16 | T23: 16 | U23: 16 | V23: 16 | W23: 16 | X23: 16 | Y23: 16 | Z23: 16 | AA23: 16 | AB23: 16 | AC23: 16 | AD23: 16 | AE23: ADMINISTRACIÓN | AF23: 45422 | AG23: 45422
A24: 2024 | B24: 45383 | C24: 45412 | D24: Servidor(a) público(a) | E24: 2 | F24: ASESOR JURIDICO | G24: ASESOR JURIDICO | H24: JURIDICO | I24: LUIS ADRIAN | J24: MENDOZA | K24: SANCHEZ | L24: Masculino | M24: Hombre | N24: =Tabla_549552!C20+Tabla_549542!C20+Tabla_549529!C20 -> 8625.6 | O24: PESOS MEXICANOS | P24: =Tabla_549552!D20+Tabla_549542!D20+Tabla_549529!D20 -> 8000 | Q24: PESOS MEXICANOS | R24: 17 | S24: 17 | T24: 17 | U24: 17 | V24: 17 | W24: 17 | X24: 17 | Y24: 17 | Z24: 17 | AA24: 17 | AB24: 17 | AC24: 17 | AD24: 17 | AE24: ADMINISTRACIÓN | AF24: 45422 | AG24: 45422
A25: 2024 | B25: 45383 | C25: 45412 | D25: Servidor(a) público(a) | E25: 4 | F25: AUXILIAR GENERAL A | G25: AUXILIAR GENERAL A | H25: AUXILIAR | I25: JESUS NICOLAS | J25: LEIJA | K25: GONZALEZ | L25: Masculino | M25: Hombre | N25: =Tabla_549552!C21+Tabla_549542!C21+Tabla_549529!C21 -> 3312 | O25: PESOS MEXICANOS | P25: =Tabla_549552!D21+Tabla_549542!D21+Tabla_549529!D21 -> 3312 | Q25: PESOS MEXICANOS | R25: 18 | S25: 18 | T25: 18 | U25: 18 | V25: 18 | W25: 18 | X25: 18 | Y25: 18 | Z25: 18 | AA25: 18 | AB25: 18 | AC25: 18 | AD25: 18 | AE25: ADMINISTRACIÓN | AF25: 45422 | AG25: 45422
A26: 2024 | B26: 45383 | C26: 45412 | D26: Servidor(a) público(a) | E26: 4 | F26: INTENDENTE | G26: INTENDENCIA | H26: CENTRO DE ASISTENCIA INFANTIL COMUNITARIO | I26: AMELIA | J26: SIERRA | K26: ALFARO | L26: Femenino | M26: Mujer | N26: =Tabla_549552!C22+Tabla_549542!C22+Tabla_549529!C22 -> 6472.18 | O26: PESOS MEXICANOS | P26: =Tabla_549552!D22+Tabla_549542!D22+Tabla_549529!D22 -> 6472.18 | Q26: PESOS MEXICANOS | R26: 19 | S26: 19 | T26: 19 | U26: 19 | V26: 19 | W26: 19 | X26: 19 | Y26: 19 | Z26: 19 | AA26: 19 | AB26: 19 | AC26: 19 | AD26: 19 | AE26: ADMINISTRACIÓN | AF26: 45422 | AG26: 45422
A27: 2024 | B27: 45383 | C27: 45412 | D27: Servidor(a) público(a) | E27: 4 | F27: AUXILIAR ADMINISTRATIVO | G27: AUXILIAR COORDINACION ADMINISTRATIVA | H27: COORDINACION ADMINISTRATIVA | I27: GLORIA GUADALUPE | J27: TORRES | K27: CORONADO | L27: Femenino | M27: Mujer | N27: =Tabla_549552!C23+Tabla_549542!C23+Tabla_549529!C23 -> 7200 | O27: PESOS MEXICANOS | P27: =Tabla_549552!D23+Tabla_549542!D23+Tabla_549529!D23 -> 7200 | Q27: PESOS MEXICANOS | R27: 20 | S27: 20 | T27: 20 | U27: 20 | V27: 20 | W27: 20 | X27: 20 | Y27: 20 | Z27: 20 | AA27: 20 | AB27: 20 | AC27: 20 | AD27: 20 | AE27: ADMINISTRACIÓN | AF27: 45422 | AG27: 45422
A28: 2024 | B28: 45383 | C28: 45412 | D28: Servidor(a) público(a) | E28: 4 | F28: RESPONSABLE DE ARCHIVO | G28: RESPONSABLE DE ARCHIVO | H28: RESPONSABLE DE ARCHIVO | I28: VERONICA | J28: MORENO | K28: GARCIA | L28: Femenino | M28: Mujer | N28: 3169 | O28: PESOS MEXICANOS | P28: 3105 | Q28: PESOS MEXICANOS | R28: 21 | S28: 21 | T28: 21 | U28: 21 | V28: 21 | W28: 21 | X28: 21 | Y28: 21 | Z28: 21 | AA28: 21 | AB28: 21 | AC28: 21 | AD28: 21 | AE28: ADMINISTRACIÓN | AF28: 45422 | AG28: 45422
A29: 2024 | B29: 45383 | C29: 45412 | D29: Servidor(a) público(a) | E29: 4 | F29: RESPONSABLE DE ALIMENTACION | G29: RESPONSABLE DE ALIMENTACION | H29: CENTRO DE ASISTENCIA INFANTIL COMUNITARIO | I29: MARGARITA | J29: GONZALEZ | K29: TORRES | L29: Femenino | M29: Mujer | N29: 3169 | O29: PESOS MEXICANOS | P29: 3105 | Q29: PESOS MEXICANOS | R29: 22 | S29: 22 | T29: 22 | U29: 22 | V29: 22 | W29: 22 | X29: 22 | Y29: 22 | Z29: 22 | AA29: 22 | AB29: 22 | AC29: 22 | AD29: 22 | AE29: ADMINISTRACIÓN | AF29: 45422 | AG29: 45422
A30: 2024 | B30: 45383 | C30: 45412 | D30: Servidor(a) público(a) | E30: 4 | F30: AUXILIAR DE CENTRO DE ATENCION INFANTIL COMUNITARIO | G30: COORDINACION DE CENTRO DE ATENCION IINFANTIL COMUNITARIO | H30: CENTRO DE AISISTENCIA INFANTIL COMUNITARIO | I30: JONATHAN GUADALUPE | J30: TORRES | K30: ESPINOZA | L30: Masculino | M30: Hombre | N30: =Tabla_549552!C26+Tabla_549542!C26+Tabla_549529!C26 -> 6970 | O30: PESOS MEXICANOS | P30: =Tabla_549552!D26+Tabla_549542!D26+Tabla_549529!D26 -> 6970 | Q30: PESOS MEXICANOS | R30: 23 | S30: 23 | T30: 23 | U30: 23 | V30: 23 | W30: 23 | X30: 23 | Y30: 23 | Z30: 23 | AA30: 23 | AB30: 23 | AC30: 23 | AD30: 23 | AE30: ADMINISTRACIÓN | AF30: 45422 | AG30: 45422
A31: 2024 | B31: 45383 | C31: 45412 | D31: Servidor(a) público(a) | E31: 4 | F31: TRABAJADORA SOCIAL | G31: TRABAJADORA SOCIAL | H31: UNIDAD BASICA DE REHABILITACION | I31: REYNA ISABEL | J31: MORENO | K31: RODRIGUEZ | L31: Femenino | M31: Mujer | N31: =Tabla_549552!C27+Tabla_549542!C27+Tabla_549529!C27 -> 8176.8 | O31: PESOS MEXICANOS | P31: =Tabla_549552!D27+Tabla_549542!D27+Tabla_549529!D27 -> 7600 | Q31: PESOS MEXICANOS | R31: 24 | S31: 24 | T31: 24 | U31: 24 | V31: 24 | W31: 24 | X31: 24 | Y31: 24 | Z31: 24 | AA31: 24 | AB31: 24 | AC31: 24 | AD31: 24 | AE31: ADMINISTRACIÓN | AF31: 45422 | AG31: 45422
A32: 2024 | B32: 45383 | C32: 45412 | D32: Servidor(a) público(a) | E32: 4 | F32: AUXILIAR DE CENTRO DE ATENCION INFANTIL COMUNITARIO | G32: COORDINACION DE ATENCION INFANTIL COMUNITARIO | H32: CENTRO DE AISISTENCIA INFANTIL COMUNITARIO | I32: BEATRIZ | J32: HERNANDEZ | K32: GAMEZ | L32: Femenino | M32: Mujer | N32: =Tabla_549552!C28+Tabla_549542!C28+Tabla_549529!C28 -> 6970 | O32: PESOS MEXICANOS | P32: =Tabla_549552!D28+Tabla_549542!D28+Tabla_549529!D28 -> 6970 | Q32: PESOS MEXICANOS | R32: 25 | S32: 25 | T32: 25 | U32: 25 | V32: 25 | W32: 25 | X32: 25 | Y32: 25 | Z32: 25 | AA32: 25 | AB32: 25 | AC32: 25 | AD32: 25 | AE32: ADMINISTRACIÓN | AF32: 45422 | AG32: 45422
A33: 2024 | B33: 45383 | C33: 45412 | D33: Servidor(a) público(a) | E33: 4 | F33: RESPONSABLE DE ALMACEN | G33: RESPONSABLE DE ALMACEN | H33: ALMACEN | I33: MARIA ELENA | J33: MORENO | K33: GARCIA | L33: Femenino | M33: Mujer | N33: 3169 | O33: PESOS MEXICANOS | P33: 3105 | Q33: PESOS MEXICANOS | R33: 26 | S33: 26 | T33: 26 | U33: 26 | V33: 26 | W33: 26 | X33: 26 | Y33: 26 | Z33: 26 | AA33: 26 | AB33: 26 | AC33: 26 | AD33: 26 | AE33: ADMINISTRACIÓN | AF33: 45422 | AG33: 45422
A34: 2024 | B34: 45383 | C34: 45412 | D34: Servidor(a) público(a) | E34: 4 | F34: COORDINADORA DE CENTRO DE ATENCION INFANTIL COMUNITARIO | G34: COORDINACION DE CENTRO DE ATENCION INFANTIL COMUNITARIO | H34: CENTRO DE ASISTENCIA INFANTIL COMUNITARIO | I34: HEIDI NORALBA | J34: GUERRERO | K34: CEDILLO | L34: Femenino | M34: Mujer | N34: =Tabla_549552!C30+Tabla_549542!C30+Tabla_549529!C30 -> 8625.6 | O34: PESOS MEXICANOS | P34: =Tabla_549552!D30+Tabla_549542!D30+Tabla_549529!D30 -> 8000 | Q34: PESOS MEXICANOS | R34: 27 | S34: 27 | T34: 27 | U34: 27 | V34: 27 | W34: 27 | X34: 27 | Y34: 27 | Z34: 27 | AA34: 27 | AB34: 27 | AC34: 27 | AD34: 27 | AE34: ADMINISTRACIÓN | AF34: 45422 | AG34: 45422
A35: 2024 | B35: 45383 | C35: 45412 | D35: Servidor(a) público(a) | E35: 4 | F35: AUXILIAR DE TERAPEUTA FISICO | G35: UNIDAD BASICA DE REHABILITACION | H35: UNIDAD BASICA DE REHABILITACION | I35: DHAMAR | J35: TORRES | K35: DELGADO | L35: Femenino | M35: Mujer | N35: =Tabla_549552!C31+Tabla_549542!C31+Tabla_549529!C31 -> 8176.8 | O35: PESOS MEXICANOS | P35: =Tabla_549552!D31+Tabla_549542!D31+Tabla_549529!D31 -> 7600 | Q35: PESOS MEXICANOS | R35: 28 | S35: 28 | T35: 28 | U35: 28 | V35: 28 | W35: 28 | X35: 28 | Y35: 28 | Z35: 28 | AA35: 28 | AB35: 28 | AC35: 28 | AD35: 28 | AE35: ADMINISTRACIÓN | AF35: 45422 | AG35: 45422
A36: 2024 | B36: 45383 | C36: 45412 | D36: Servidor(a) público(a) | E36: 4 | F36: AUXILIAR DE CENTRO DE ATENCION INFANTIL COMUNITARIO | G36: COORDINACION DE CENTRO DE ATENCION IINFANTIL COMUNITARIO | H36: CENTRO DE AISISTENCIA INFANTIL COMUNITARIO | I36: MYRLA RAQUEL | J36: ZAPATA | K36: MANCILLA | L36: Femenino | M36: Mujer | N36: =Tabla_549552!C32+Tabla_549542!C32+Tabla_549529!C32 -> 6970 | O36: PESOS MEXICANOS | P36: =Tabla_549552!D32+Tabla_549542!D32+Tabla_549529!D32 -> 6970 | Q36: PESOS MEXICANOS | R36: 29 | S36: 29 | T36: 29 | U36: 29 | V36: 29 | W36: 29 | X36: 29 | Y36: 29 | Z36: 29 | AA36: 29 | AB36: 29 | AC36: 29 | AD36: 29 | AE36: ADMINISTRACIÓN | AF36: 45422 | AG36: 45422

Sheet Hidden_1
A1: Funcionario
A2: Servidor(a) público(a)
A3: Servidor[a] público[a] eventual
A4: Integrante
A5: Empleado
A6: Representante popular
A7: Miembro del poder judicial
A8: Miembro de órgano autónomo
A9: Personal de confianza
A10: Prestador de servicios profesionales
A11: Otro

Sheet Hidden_2
A1: Femenino
A2: Masculino

Sheet Hidden_3
A1: Hombre
A2: Mujer

Sheet Tabla_549551
B1: 2 | C1: 6 | D1: 6 | E1: 1 | F1: 1
B2: 70050 | C2: 70051 | D2: 70052 | E2: 70053 | F2: 70054
A3: ID | B3: Denominación de las percepciones adicionales en dinero | C3: Monto bruto de las percepciones adicionales en dinero | D3: Monto neto de las percepciones adicionales en dinero | E3: Tipo de moneda de las percepciones adicionales en dinero | F3: Periodicidad de las percepciones adicionales en dinero
A4: 1 | B4: SUELDO | C4: 0 | D4: 0 | E4: PESOS MEXICANOS | F4: NO SE GENERA
A5: =A4+1 -> 2 | B5: SUELDO | C5: 0 | D5: 0 | E5: PESOS MEXICANOS | F5: NO SE GENERA
A6: =A5+1 -> 3 | B6: SUELDO | C6: 0 | D6: 0 | E6: PESOS MEXICANOS | F6: NO SE GENERA
A7: =A6+1 -> 4 | B7: SUELDO | C7: 0 | D7: 0 | E7: PESOS MEXICANOS | F7: NO SE GENERA
A8: =A7+1 -> 5 | B8: SUELDO | C8: 0 | D8: 0 | E8: PESOS MEXICANOS | F8: NO SE GENERA
A9: =A8+1 -> 6 | B9: =B8 -> SUELDO | C9: 0 | D9: 0 | E9: PESOS MEXICANOS | F9: NO SE GENERA
A10: =A9+1 -> 7 | B10: SUELDO | C10: 0 | D10: 0 | E10: PESOS MEXICANOS | F10: NO SE GENERA
A11: =A10+1 -> 8 | B11: SUELDO | C11: 0 | D11: 0 | E11: PESOS MEXICANOS | F11: NO SE GENERA
A12: =A11+1 -> 9 | B12: =B11 -> SUELDO | C12: 0 | D12: 0 | E12: PESOS MEXICANOS | F12: NO SE GENERA
A13: =A12+1 -> 10 | B13: SUELDO | C13: 0 | D13: 0 | E13: PESOS MEXICANOS | F13: NO SE GENERA
A14: =A13+1 -> 11 | B14: =B13 -> SUELDO | C14: 0 | D14: 0 | E14: PESOS MEXICANOS | F14: NO SE GENERA
A15: =A14+1 -> 12 | B15: SUELDO | C15: 0 | D15: 0 | E15: PESOS MEXICANOS | F15: NO SE GENERA
A16: =A15+1 -> 13 | B16: =B15 -> SUELDO | C16: 0 | D16: 0 | E16: PESOS MEXICANOS | F16: NO SE GENERA
A17: =A16+1 -> 14 | B17: SUELDO | C17: 0 | D17: 0 | E17: PESOS MEXICANOS | F17: NO SE GENERA
A18: =A17+1 -> 15 | B18: =B17 -> SUELDO | C18: 0 | D18: 0 | E18: PESOS MEXICANOS | F18: NO SE GENERA
A19: =A18+1 -> 16 | B19: SUELDO | C19: 0 | D19: 0 | E19: PESOS MEXICANOS | F19: NO SE GENERA
A20: =A19+1 -> 17 | B20: =B19 -> SUELDO | C20: 0 | D20: 0 | E20: PESOS MEXICANOS | F20: NO SE GENERA
A21: =A20+1 -> 18 | B21: SUELDO | C21: 0 | D21: 0 | E21: PESOS MEXICANOS | F21: NO SE GENERA
A22: =A21+1 -> 19 | B22: SUELDO | C22: 0 | D22: 0 | E22: PESOS MEXICANOS | F22: NO SE GENERA
A23: =A22+1 -> 20 | B23: =B22 -> SUELDO | C23: 0 | D23: 0 | E23: PESOS MEXICANOS | F23: NO SE GENERA
A24: =A23+1 -> 21 | B24: SUELDO | C24: 0 | D24: 0 | E24: PESOS MEXICANOS | F24: NO SE GENERA
A25: =A24+1 -> 22 | B25: SUELDO | C25: 0 | D25: 0 | E25: PESOS MEXICANOS | F25: NO SE GENERA
A26: =A25+1 -> 23 | B26: =B25 -> SUELDO | C26: 0 | D26: 0 | E26: PESOS MEXICANOS | F26: NO SE GENERA
A27: =A26+1 -> 24 | B27: SUELDO | C27: 0 | D27: 0 | E27: PESOS MEXICANOS | F27: NO SE GENERA
A28: =A27+1 -> 25 | B28: =B27 -> SUELDO | C28: 0 | D28: 0 | E28: PESOS MEXICANOS | F28: NO SE GENERA
A29: =A28+1 -> 26 | B29: SUELDO | C29: 0 | D29: 0 | E29: PESOS MEXICANOS | F29: NO SE GENERA
A30: 28 | B30: SUELDO | C30: 0 | D30: 0 | E30: PESOS MEXICANOS | F30: NO SE GENERA
A31: 29 | B31: SUELDO | C31: 0 | D31: 0 | E31: PESOS MEXICANOS | F31: NO SE GENERA

Sheet Tabla_549538
B1: 2 | C1: 1
B2: 70028 | C2: 70029
A3: ID | B3: Descripción de las percepciones adicionales en especie | C3: Periodicidad de las percepciones adicionales en especie
A4: 1 | B4: NO SE GENERA | C4: NO SE GENERA
A5: =A4+1 -> 2 | B5: NO SE GENERA | C5: NO SE GENERA
A6: =A5+1 -> 3 | B6: NO SE GENERA | C6: NO SE GENERA
A7: =A6+1 -> 4 | B7: NO SE GENERA | C7: NO SE GENERA
A8: =A7+1 -> 5 | B8: NO SE GENERA | C8: NO SE GENERA
A9: =A8+1 -> 6 | B9: NO SE GENERA | C9: NO SE GENERA
A10: =A9+1 -> 7 | B10: NO SE GENERA | C10: NO SE GENERA
A11: =A10+1 -> 8 | B11: NO SE GENERA | C11: NO SE GENERA
A12: =A11+1 -> 9 | B12: NO SE GENERA | C12: NO SE GENERA
A13: =A12+1 -> 10 | B13: NO SE GENERA | C13: NO SE GENERA
A14: =A13+1 -> 11 | B14: NO SE GENERA | C14: NO SE GENERA
A15: =A14+1 -> 12 | B15: NO SE GENERA | C15: NO SE GENERA
A16: =A15+1 -> 13 | B16: NO SE GENERA | C16: NO SE GENERA
... A30: =A29+1 -> 27 | B30: NO SE GENERA | C30: NO SE GENERA
A31: 28 | B31: NO SE GENERA | C31: NO SE GENERA
A32: 29 | B32: NO SE GENERA | C32: NO SE GENERA

Sheet Tabla_549552
B1: 2 | C1: 6 | D1: 6 | E1: 1 | F1: 1
B2: 70057 | C2: 70058 | D2: 70059 | E2: 70055 | F2: 70056
A3: ID | B3: Denominación de los ingresos | C3: Monto bruto de los ingresos | D3: Monto neto de los ingresos | E3: Tipo de moneda de los ingresos | F3: Periodicidad de los ingresos
A4: 1 | B4: SUELDO | C4: =7236.6*2 -> 14473.2 | D4: =6500*2 -> 13000 | E4: PESOS MEXICANOS | F4: MENSUAL
A5: 2 | B5: SUELDO | C5: =6026.7*2 -> 12053.4 | D5: =5500*2 -> 11000 | E5: PESOS MEXICANOS | F5: MENSUAL
A6: 3 | B6: SUELDO | C6: 4312.8 | D6: 4000 | E6: PESOS MEXICANOS | F6: MENSUAL
A7: 4 | B7: SUELDO | C7: =3700*2 -> 7400 | D7: =3700*2 -> 7400 | E7: PESOS MEXICANOS | F7: MENSUAL
A8: 5 | B8: SUELDO | C8: =4873.8*2 -> 9747.6 | D8: =4500*2 -> 9000 | E8: PESOS MEXICANOS | F8: MENSUAL
A9: 6 | B9: SUELDO | C9: =3485*2 -> 6970 | D9: =3485*2 -> 6970 | E9: PESOS MEXICANOS | F9: MENSUAL
A10: 7 | B10: SUELDO | C10: =4088.4*2 -> 8176.8 | D10: =3800*2 -> 7600 | E10: PESOS MEXICANOS | F10: MENSUAL
A11: 8 | B11: SUELDO | C11: =4088.4*2 -> 8176.8 | D11: =3800*2 -> 7600 | E11: PESOS MEXICANOS | F11: MENSUAL
A12: 9 | B12: SUELDO | C12: =4649.4*2 -> 9298.8 | D12: =4300*2 -> 8600 | E12: PESOS MEXICANOS | F12: MENSUAL
A13: 10 | B13: SUELDO | C13: =2700*2 -> 5400 | D13: =2700*2 -> 5400 | E13: PESOS MEXICANOS | F13: MENSUAL
A14: 11 | B14: SUELDO | C14: 3485 | D14: 3485 | E14: PESOS MEXICANOS | F14: MENSUAL
A15: 12 | B15: SUELDO | C15: =3236.09*2 -> 6472.18 | D15: =3236.09*2 -> 6472.18 | E15: PESOS MEXICANOS | F15: MENSUAL
A16: 13 | B16: SUELDO | C16: =3236.09*2 -> 6472.18 | D16: =3236.09*2 -> 6472.18 | E16: PESOS MEXICANOS | F16: MENSUAL
A17: 14 | B17: SUELDO | C17: =4312.8*2 -> 8625.6 | D17: =4000*2 -> 8000 | E17: PESOS MEXICANOS | F17: MENSUAL
A18: 15 | B18: SUELDO | C18: =1656*2 -> 3312 | D18: =1656*2 -> 3312 | E18: PESOS MEXICANOS | F18: MENSUAL
A19: 16 | B19: SUELDO | C19: =4649.4*2 -> 9298.8 | D19: =4300*2 -> 8600 | E19: PESOS MEXICANOS | F19: MENSUAL
A20: 17 | B20: SUELDO | C20: =4312.8*2 -> 8625.6 | D20: =4000*2 -> 8000 | E20: PESOS MEXICANOS | F20: MENSUAL
A21: 18 | B21: SUELDO | C21: =1656*2 -> 3312 | D21: =1656*2 -> 3312 | E21: PESOS MEXICANOS | F21: MENSUAL
A22: 19 | B22: SUELDO | C22: =3236.09*2 -> 6472.18 | D22: =3236.09*2 -> 6472.18 | E22: PESOS MEXICANOS | F22: MENSUAL
A23: 20 | B23: SUELDO | C23: =3600*2 -> 7200 | D23: =3600*2 -> 7200 | E23: PESOS MEXICANOS | F23: MENSUAL
A24: 21 | B24: SUELDO | C24: 3485 | D24: 3485 | E24: PESOS MEXICANOS | F24: MENSUAL
A25: 22 | B25: SUELDO | C25: 3485 | D25: 3485 | E25: PESOS MEXICANOS | F25: MENSUAL
A26: 23 | B26: SUELDO | C26: =3485*2 -> 6970 | D26: =3485*2 -> 6970 | E26: PESOS MEXICANOS | F26: MENSUAL
A27: 24 | B27: SUELDO | C27: =4088.4*2 -> 8176.8 | D27: =3800*2 -> 7600 | E27: PESOS MEXICANOS | F27: MENSUAL
A28: 25 | B28: SUELDO | C28: =3485*2 -> 6970 | D28: =3485*2 -> 6970 | E28: PESOS MEXICANOS | F28: MENSUAL
A29: 26 | B29: SUELDO | C29: 3485 | D29: 3485 | E29: PESOS MEXICANOS | F29: MENSUAL
A30: 27 | B30: SUELDO | C30: =4312.8*2 -> 8625.6 | D30: =4000*2 -> 8000 | E30: PESOS MEXICANOS | F30: MENSUAL
A31: 28 | B31: SUELDO | C31: =4088.4*2 -> 8176.8 | D31: =3800*2 -> 7600 | E31: PESOS MEXICANOS | F31: MENSUAL
A32: 29 | B32: SUELDO | C32: =3485*2 -> 6970 | D32: =3485*2 -> 6970 | E32: PESOS MEXICANOS | F32: MENSUAL

Sheet Tabla_549522
B1: 1 | C1: 6 | D1: 6 | E1: 1 | F1: 1
B2: 70008 | C2: 70009 | D2: 70010 | E2: 70011 | F2: 70012
A3: ID | B3: Denominación de los sistemas de compensación | C3: Monto bruto de los sistemas de compensación | D3: Monto neto de los sistemas de compensación | E3: Tipo de moneda de los sistemas de compensación | F3: Periodicidad de los sistemas de compensación
A4: 1 | B4: NO SE GENERA | C4: 0 | D4: 0 | E4: PESOS MEXICANOS | F4: QUINCENAL
A5: 2 | B5: =B4 -> NO SE GENERA | C5: 0 | D5: 0 | E5: PESOS MEXICANOS | F5: QUINCENAL
A6: =A5+1 -> 3 | B6: NO SE GENERA | C6: 0 | D6: 0 | E6: PESOS MEXICANOS | F6: QUINCENAL
A7: =A6+1 -> 4 | B7: NO SE GENERA | C7: 0 | D7: 0 | E7: PESOS MEXICANOS | F7: QUINCENAL
A8: =A7+1 -> 5 | B8: NO SE GENERA | C8: 0 | D8: 0 | E8: PESOS MEXICANOS | F8: QUINCENAL
A9: =A8+1 -> 6 | B9: NO SE GENERA | C9: 0 | D9: 0 | E9: PESOS MEXICANOS | F9: QUINCENAL
A10: =A9+1 -> 7 | B10: NO SE GENERA | C10: 0 | D10: 0 | E10: PESOS MEXICANOS | F10: QUINCENAL
A11: =A10+1 -> 8 | B11: NO SE GENERA | C11: 0 | D11: 0 | E11: PESOS MEXICANOS | F11: QUINCENAL
A12: =A11+1 -> 9 | B12: NO SE GENERA | C12: 0 | D12: 0 | E12: PESOS MEXICANOS | F12: QUINCENAL
A13: =A12+1 -> 10 | B13: NO SE GENERA | C13: 0 | D13: 0 | E13: PESOS MEXICANOS | F13: QUINCENAL
A14: =A13+1 -> 11 | B14: NO SE GENERA | C14: 0 | D14: 0 | E14: PESOS MEXICANOS | F14: QUINCENAL
A15: =A14+1 -> 12 | B15: NO SE GENERA | C15: 0 | D15: 0 | E15: PESOS MEXICANOS | F15: QUINCENAL
A16: =A15+1 -> 13 | B16: NO SE GENERA | C16: 0 | D16: 0 | E16: PESOS MEXICANOS | F16: QUINCENAL
A17: =A16+1 -> 14 | B17: NO SE GENERA | C17: 0 | D17: 0 | E17: PESOS MEXICANOS | F17: QUINCENAL
... A30: =A29+1 -> 27 | B30: NO SE GENERA | C30: 0 | D30: 0 | E30: PESOS MEXICANOS | F30: QUINCENAL
A31: 28 | B31: NO SE GENERA | C31: 0 | D31: 0 | E31: PESOS MEXICANOS | F31: QUINCENAL
A32: 29 | B32: NO SE GENERA | C32: 0 | D32: 0 | E32: PESOS MEXICANOS | F32: QUINCENAL

Sheet Tabla_549542
B1: 1 | C1: 6 | D1: 6 | E1: 1 | F1: 1
B2: 70035 | C2: 70036 | D2: 70037 | E2: 70038 | F2: 70039
A3: ID | B3: Denominación de las gratificaciones | C3: Monto bruto de las gratificaciones | D3: Monto neto de las gratificaciones | E3: Tipo de moneda de las gratificaciones | F3: Periodicidad de las gratificaciones
A4: 1 | B4: AGUINALDO | C4: 0 | D4: 0 | E4: PESOS MEXICANOS | F4: ANUAL
A5: 2 | B5: AGUINALDO | C5: 0 | D5: 0 | E5: PESOS MEXICANOS | F5: ANUAL
A6: 3 | B6: AGUINALDO | C6: 0 | D6: 0 | E6: PESOS MEXICANOS | F6: ANUAL
A7: 4 | B7: AGUINALDO | C7: 0 | D7: 0 | E7: PESOS MEXICANOS | F7: ANUAL
A8: 5 | B8: AGUINALDO | C8: 0 | D8: 0 | E8: PESOS MEXICANOS | F8: ANUAL
A9: 6 | B9: AGUINALDO | C9: 0 | D9: 0 | E9: PESOS MEXICANOS | F9: ANUAL
A10: 7 | B10: AGUINALDO | C10: 0 | D10: 0 | E10: PESOS MEXICANOS | F10: ANUAL
A11: 8 | B11: AGUINALDO | C11: 0 | D11: 0 | E11: PESOS MEXICANOS | F11: ANUAL
A12: 9 | B12: AGUINALDO | C12: 0 | D12: 0 | E12: PESOS MEXICANOS | F12: ANUAL
A13: 10 | B13: AGUINALDO | C13: 0 | D13: 0 | E13: PESOS MEXICANOS | F13: ANUAL
A14: 11 | B14: AGUINALDO | C14: 0 | D14: 0 | E14: PESOS MEXICANOS | F14: ANUAL
A15: 12 | B15: AGUINALDO | C15: 0 | D15: 0 | E15: PESOS MEXICANOS | F15: ANUAL
... A32: 29 | B32: AGUINALDO | C32: 0 | D32: 0 | E32: PESOS MEXICANOS | F32: ANUAL

Sheet Tabla_549529
B1: 1 | C1: 6 | D1: 6 | E1: 1 | F1: 1
B2: 70013 | C2: 70014 | D2: 70015 | E2: 70016 | F2: 70017
A3: ID | B3: Denominación de las primas | C3: Monto bruto de las primas | D3: Monto neto de las primas | E3: Tipo de moneda de las primas | F3: Periodicidad de las primas
A4: 1 | B4: PRIMAS VACACIONALES | C4: 0 | D4: 0 | E4: PESOS MEXICANOS | F4: SEMESTRAL
A5: 2 | B5: PRIMAS VACACIONALES | C5: 0 | D5: 0 | E5: PESOS MEXICANOS | F5: SEMESTRAL
A6: 3 | B6: PRIMAS VACACIONALES | C6: 0 | D6: 0 | E6: PESOS MEXICANOS | F6: SEMESTRAL
A7: 4 | B7: PRIMAS VACACIONALES | C7: 0 | D7: 0 | E7: PESOS MEXICANOS | F7: SEMESTRAL
A8: 5 | B8: PRIMAS VACACIONALES | C8: 0 | D8: 0 | E8: PESOS MEXICANOS | F8: SEMESTRAL
A9: 6 | B9: PRIMAS VACACIONALES | C9: 0 | D9: 0 | E9: PESOS MEXICANOS | F9: SEMESTRAL
A10: 7 | B10: PRIMAS VACACIONALES | C10: 0 | D10: 0 | E10: PESOS MEXICANOS | F10: SEMESTRAL
A11: 8 | B11: PRIMAS VACACIONALES | C11: 0 | D11: 0 | E11: PESOS MEXICANOS | F11: SEMESTRAL
A12: 9 | B12: PRIMAS VACACIONALES | C12: 0 | D12: 0 | E12: PESOS MEXICANOS | F12: SEMESTRAL
A13: 10 | B13: PRIMAS VACACIONALES | C13: 0 | D13: 0 | E13: PESOS MEXICANOS | F13: SEMESTRAL
A14: 11 | B14: PRIMAS VACACIONALES | C14: 0 | D14: 0 | E14: PESOS MEXICANOS | F14: SEMESTRAL
A15: 12 | B15: PRIMAS VACACIONALES | C15: 0 | D15: 0 | E15: PESOS MEXICANOS | F15: SEMESTRAL
... A32: 29 | B32: PRIMAS VACACIONALES | C32: 0 | D32: 0 | E32: PESOS MEXICANOS | F32: SEMESTRAL

Sheet Tabla_549539
B1: 1 | C1: 6 | D1: 6 | E1: 1 | F1: 1
B2: 70030 | C2: 70031 | D2: 70032 | E2: 70033 | F2: 70034
A3: ID | B3: Denominación de las comisiones | C3: Monto bruto de las comisiones | D3: Monto neto de las comisiones | E3: Tipo de moneda de las comisiones | F3: Periodicidad de las comisiones
A4: 1 | B4: NO SE GENERA | C4: 0 | D4: 0 | E4: PESOS MEXICANOS | F4: NO SE GENERA
A5: 2 | B5: NO SE GENERA | C5: 0 | D5: 0 | E5: PESOS MEXICANOS | F5: NO SE GENERA
A6: 3 | B6: NO SE GENERA | C6: 0 | D6: 0 | E6: PESOS MEXICANOS | F6: NO SE GENERA
A7: 4 | B7: NO SE GENERA | C7: 0 | D7: 0 | E7: PESOS MEXICANOS | F7: NO SE GENERA
A8: 5 | B8: NO SE GENERA | C8: 0 | D8: 0 | E8: PESOS MEXICANOS | F8: NO SE GENERA
A9: 6 | B9: NO SE GENERA | C9: 0 | D9: 0 | E9: PESOS MEXICANOS | F9: NO SE GENERA
A10: 7 | B10: NO SE GENERA | C10: 0 | D10: 0 | E10: PESOS MEXICANOS | F10: NO SE GENERA
A11: 8 | B11: NO SE GENERA | C11: 0 | D11: 0 | E11: PESOS MEXICANOS | F11: NO SE GENERA
A12: 9 | B12: NO SE GENERA | C12: 0 | D12: 0 | E12: PESOS MEXICANOS | F12: NO SE GENERA
A13: 10 | B13: NO SE GENERA | C13: 0 | D13: 0 | E13: PESOS MEXICANOS | F13: NO SE GENERA
A14: 11 | B14: NO SE GENERA | C14: 0 | D14: 0 | E14: PESOS MEXICANOS | F14: NO SE GENERA
A15: 12 | B15: NO SE GENERA | C15: 0 | D15: 0 | E15: PESOS MEXICANOS | F15: NO SE GENERA
... A32: 29 | B32: NO SE GENERA | C32: 0 | D32: 0 | E32: PESOS MEXICANOS | F32: NO SE GENERA

Sheet Tabla_549530
B1: 1 | C1: 6 | D1: 6 | E1: 1 | F1: 1
B2: 70018 | C2: 70019 | D2: 70020 | E2: 70021 | F2: 70022
A3: ID | B3: Denominación de las dietas | C3: Monto bruto de las dietas | D3: Monto neto de las dietas | E3: Tipo de moneda de las dietas | F3: Periodicidad de las dietas
A4: 1 | B4: NO SE GENERA | C4: 0 | D4: 0 | E4: PESOS MEXICANOS | F4: NO SE GENERA
A5: 2 | B5: NO SE GENERA | C5: 0 | D5: 0 | E5: PESOS MEXICANOS | F5: NO SE GENERA
A6: 3 | B6: NO SE GENERA | C6: 0 | D6: 0 | E6: PESOS MEXICANOS | F6: NO SE GENERA
A7: 4 | B7: NO SE GENERA | C7: 0 | D7: 0 | E7: PESOS MEXICANOS | F7: NO SE GENERA
A8: 5 | B8: NO SE GENERA | C8: 0 | D8: 0 | E8: PESOS MEXICANOS | F8: NO SE GENERA
A9: 6 | B9: NO SE GENERA | C9: 0 | D9: 0 | E9: PESOS MEXICANOS | F9: NO SE GENERA
A10: 7 | B10: NO SE GENERA | C10: 0 | D10: 0 | E10: PESOS MEXICANOS | F10: NO SE GENERA
A11: 8 | B11: NO SE GENERA | C11: 0 | D11: 0 | E11: PESOS MEXICANOS | F11: NO SE GENERA
A12: 9 | B12: NO SE GENERA | C12: 0 | D12: 0 | E12: PESOS MEXICANOS | F12: NO SE GENERA
A13: 10 | B13: NO SE GENERA | C13: 0 | D13: 0 | E13: PESOS MEXICANOS | F13: NO SE GENERA
A14: 11 | B14: NO SE GENERA | C14: 0 | D14: 0 | E14: PESOS MEXICANOS | F14: NO SE GENERA
A15: 12 | B15: NO SE GENERA | C15: 0 | D15: 0 | E15: PESOS MEXICANOS | F15: NO SE GENERA
... A32: 29 | B32: NO SE GENERA | C32: 0 | D32: 0 | E32: PESOS MEXICANOS | F32: NO SE GENERA

Sheet Tabla_549531
B1: 1 | C1: 6 | D1: 6 | E1: 1 | F1: 1
B2: 70023 | C2: 70024 | D2: 70025 | E2: 70026 | F2: 70027
A3: ID | B3: Denominación de los bonos | C3: Monto bruto de los bonos | D3: Monto neto de los bonos | E3: Tipo de moneda de los bonos | F3: Periodicidad de los bonos
A4: 1 | B4: NO SE GENERA | C4: 0 | D4: 0 | E4: PESOS MEXICANOS | F4: NO SE GENERA
A5: 2 | B5: NO SE GENERA | C5: 0 | D5: 0 | E5: PESOS MEXICANOS | F5: NO SE GENERA
A6: 3 | B6: NO SE GENERA | C6: 0 | D6: 0 | E6: PESOS MEXICANOS | F6: NO SE GENERA
A7: 4 | B7: NO SE GENERA | C7: 0 | D7: 0 | E7: PESOS MEXICANOS | F7: NO SE GENERA
A8: 5 | B8: NO SE GENERA | C8: 0 | D8: 0 | E8: PESOS MEXICANOS | F8: NO SE GENERA
A9: 6 | B9: NO SE GENERA | C9: 0 | D9: 0 | E9: PESOS MEXICANOS | F9: NO SE GENERA
A10: 7 | B10: NO SE GENERA | C10: 0 | D10: 0 | E10: PESOS MEXICANOS | F10: NO SE GENERA
A11: 8 | B11: NO SE GENERA | C11: 0 | D11: 0 | E11: PESOS MEXICANOS | F11: NO SE GENERA
A12: 9 | B12: NO SE GENERA | C12: 0 | D12: 0 | E12: PESOS MEXICANOS | F12: NO SE GENERA
A13: 10 | B13: NO SE GENERA | C13: 0 | D13: 0 | E13: PESOS MEXICANOS | F13: NO SE GENERA
A14: 11 | B14: NO SE GENERA | C14: 0 | D14: 0 | E14: PESOS MEXICANOS | F14: NO SE GENERA
A15: 12 | B15: NO SE GENERA | C15: 0 | D15: 0 | E15: PESOS MEXICANOS | F15: NO SE GENERA
... A32: 29 | B32: NO SE GENERA | C32: 0 | D32: 0 | E32: PESOS MEXICANOS | F32: NO SE GENERA

Sheet Tabla_549549
B1: 1 | C1: 6 | D1: 6 | E1: 1 | F1: 1
B2: 70040 | C2: 70041 | D2: 70042 | E2: 70043 | F2: 70044
A3: ID | B3: Denominación de los estímulos | C3: Monto bruto de los estímulos | D3: Monto neto de los estímulos | E3: Tipo de moneda de los estímulos | F3: Periodicidad de los estímulos
A4: 1 | B4: NO SE GENERA | C4: 0 | D4: 0 | E4: PESOS MEXICANOS | F4: NO SE GENERA
A5: 2 | B5: NO SE GENERA | C5: 0 | D5: 0 | E5: PESOS MEXICANOS | F5: NO SE GENERA
A6: 3 | B6: NO SE GENERA | C6: 0 | D6: 0 | E6: PESOS MEXICANOS | F6: NO SE GENERA
A7: 4 | B7: NO SE GENERA | C7: 0 | D7: 0 | E7: PESOS MEXICANOS | F7: NO SE GENERA
A8: 5 | B8: NO SE GENERA | C8: 0 | D8: 0 | E8: PESOS MEXICANOS | F8: NO SE GENERA
A9: 6 | B9: NO SE GENERA | C9: 0 | D9: 0 | E9: PESOS MEXICANOS | F9: NO SE GENERA
A10: 7 | B10: NO SE GENERA | C10: 0 | D10: 0 | E10: PESOS MEXICANOS | F10: NO SE GENERA
A11: 8 | B11: NO SE GENERA | C11: 0 | D11: 0 | E11: PESOS MEXICANOS | F11: NO SE GENERA
A12: 9 | B12: NO SE GENERA | C12: 0 | D12: 0 | E12: PESOS MEXICANOS | F12: NO SE GENERA
A13: 10 | B13: NO SE GENERA | C13: 0 | D13: 0 | E13: PESOS MEXICANOS | F13: NO SE GENERA
A14: 11 | B14: NO SE GENERA | C14: 0 | D14: 0 | E14: PESOS MEXICANOS | F14: NO SE GENERA
A15: 12 | B15: NO SE GENERA | C15: 0 | D15: 0 | E15: PESOS MEXICANOS | F15: NO SE GENERA
... A32: 29 | B32: NO SE GENERA | C32: 0 | D32: 0 | E32: PESOS MEXICANOS | F32: NO SE GENERA

Sheet Tabla_549553
B1: 1 | C1: 6 | D1: 6 | E1: 1 | F1: 1
B2: 70060 | C2: 70061 | D2: 70062 | E2: 70063 | F2: 70064
A3: ID | B3: Denominación de los apoyos económicos | C3: Monto bruto de los apoyos económicos | D3: Monto neto de los apoyos económicos | E3: Tipo de moneda de los apoyos económicos | F3: Periodicidad de los apoyos económicos
A4: 1 | B4: NO SE GENERA | C4: 0 | D4: 0 | E4: PESOS MEXICANOS | F4: NO SE GENERA
A5: 2 | B5: NO SE GENERA | C5: 0 | D5: 0 | E5: PESOS MEXICANOS | F5: NO SE GENERA
A6: 3 | B6: NO SE GENERA | C6: 0 | D6: 0 | E6: PESOS MEXICANOS | F6: NO SE GENERA
A7: 4 | B7: NO SE GENERA | C7: 0 | D7: 0 | E7: PESOS MEXICANOS | F7: NO SE GENERA
A8: 5 | B8: NO SE GENERA | C8: 0 | D8: 0 | E8: PESOS MEXICANOS | F8: NO SE GENERA
A9: 6 | B9: NO SE GENERA | C9: 0 | D9: 0 | E9: PESOS MEXICANOS | F9: NO SE GENERA
A10: 7 | B10: NO SE GENERA | C10: 0 | D10: 0 | E10: PESOS MEXICANOS | F10: NO SE GENERA
A11: 8 | B11: NO SE GENERA | C11: 0 | D11: 0 | E11: PESOS MEXICANOS | F11: NO SE GENERA
A12: 9 | B12: NO SE GENERA | C12: 0 | D12: 0 | E12: PESOS MEXICANOS | F12: NO SE GENERA
A13: 10 | B13: NO SE GENERA | C13: 0 | D13: 0 | E13: PESOS MEXICANOS | F13: NO SE GENERA
A14: 11 | B14: NO SE GENERA | C14: 0 | D14: 0 | E14: PESOS MEXICANOS | F14: NO SE GENERA
A15: 12 | B15: NO SE GENERA | C15: 0 | D15: 0 | E15: PESOS MEXICANOS | F15: NO SE GENERA
... A32: 29 | B32: NO SE GENERA | C32: 0 | D32: 0 | E32: PESOS MEXICANOS | F32: NO SE GENERA

Sheet Tabla_549550
B1: 1 | C1: 6 | D1: 6 | E1: 1 | F1: 1
B2: 70045 | C2: 70046 | D2: 70047 | E2: 70048 | F2: 70049
A3: ID | B3: Denominación de las prestaciones económicas | C3: Monto bruto de las prestaciones económicas | D3: Monto neto de las prestaciones económicas | E3: Tipo de moneda de las prestaciones económicas | F3: Periodicidad de las prestaciones económicas
A4: 1 | B4: NO SE GENERA | C4: 0 | D4: 0 | E4: PESOS MEXICANOS | F4: NO SE GENERA
A5: =A4+1 -> 2 | B5: NO SE GENERA | C5: 0 | D5: 0 | E5: PESOS MEXICANOS | F5: NO SE GENERA
A6: =A5+1 -> 3 | B6: NO SE GENERA | C6: 0 | D6: 0 | E6: PESOS MEXICANOS | F6: NO SE GENERA
A7: =A6+1 -> 4 | B7: NO SE GENERA | C7: 0 | D7: 0 | E7: PESOS MEXICANOS | F7: NO SE GENERA
A8: =A7+1 -> 5 | B8: NO SE GENERA | C8: 0 | D8: 0 | E8: PESOS MEXICANOS | F8: NO SE GENERA
A9: =A8+1 -> 6 | B9: NO SE GENERA | C9: 0 | D9: 0 | E9: PESOS MEXICANOS | F9: NO SE GENERA
A10: =A9+1 -> 7 | B10: NO SE GENERA | C10: 0 | D10: 0 | E10: PESOS MEXICANOS | F10: NO SE GENERA
A11: =A10+1 -> 8 | B11: NO SE GENERA | C11: 0 | D11: 0 | E11: PESOS MEXICANOS | F11: NO SE GENERA
A12: =A11+1 -> 9 | B12: NO SE GENERA | C12: 0 | D12: 0 | E12: PESOS MEXICANOS | F12: NO SE GENERA
A13: =A12+1 -> 10 | B13: NO SE GENERA | C13: 0 | D13: 0 | E13: PESOS MEXICANOS | F13: NO SE GENERA
A14: =A13+1 -> 11 | B14: NO SE GENERA | C14: 0 | D14: 0 | E14: PESOS MEXICANOS | F14: NO SE GENERA
A15: =A14+1 -> 12 | B15: NO SE GENERA | C15: 0 | D15: 0 | E15: PESOS MEXICANOS | F15: NO SE GENERA
A16: =A15+1 -> 13 | B16: NO SE GENERA | C16: 0 | D16: 0 | E16: PESOS MEXICANOS | F16: NO SE GENERA
... A31: =A30+1 -> 28 | B31: NO SE GENERA | C31: 0 | D31: 0 | E31: PESOS MEXICANOS | F31: NO SE GENERA
A32: 29 | B32: NO SE GENERA | C32: 0 | D32: 0 | E32: PESOS MEXICANOS | F32: NO SE GENERA

Sheet Tabla_549554
B1: 1 | C1: 1
B2: 70065 | C2: 70066
A3: ID | B3: Descripción de las prestaciones en especie | C3: Periodicidad de las prestaciones en especie
A4: 1 | B4: NO SE GENERA | C4: NO SE GENERA
A5: 2 | B5: NO SE GENERA | C5: NO SE GENERA
A6: 3 | B6: NO SE GENERA | C6: NO SE GENERA
A7: 4 | B7: NO SE GENERA | C7: NO SE GENERA
A8: 5 | B8: NO SE GENERA | C8: NO SE GENERA
A9: 6 | B9: NO SE GENERA | C9: NO SE GENERA
A10: 7 | B10: NO SE GENERA | C10: NO SE GENERA
A11: 8 | B11: NO SE GENERA | C11: NO SE GENERA
A12: 9 | B12: NO SE GENERA | C12: NO SE GENERA
A13: 10 | B13: NO SE GENERA | C13: NO SE GENERA
A14: 11 | B14: NO SE GENERA | C14: NO SE GENERA
A15: 12 | B15: NO SE GENERA | C15: NO SE GENERA
... A32: 29 | B32: NO SE GENERA | C32: NO SE GENERA
